BEGIN:VCALENDAR
VERSION:2.0
PRODID:-//Communaut&eacute; de recherche-action sur les droits &eacute;conomiques et sociaux - ECPv6.15.20//NONSGML v1.0//EN
CALSCALE:GREGORIAN
METHOD:PUBLISH
X-WR-CALNAME:Communaut&eacute; de recherche-action sur les droits &eacute;conomiques et sociaux
X-ORIGINAL-URL:https://comradespartenariat.com/en/
X-WR-CALDESC:Events for Communaut&eacute; de recherche-action sur les droits &eacute;conomiques et sociaux
REFRESH-INTERVAL;VALUE=DURATION:PT1H
X-Robots-Tag:noindex
X-PUBLISHED-TTL:PT1H
BEGIN:VTIMEZONE
TZID:America/New_York
BEGIN:DAYLIGHT
TZOFFSETFROM:-0500
TZOFFSETTO:-0400
TZNAME:EDT
DTSTART:20250309T070000
END:DAYLIGHT
BEGIN:STANDARD
TZOFFSETFROM:-0400
TZOFFSETTO:-0500
TZNAME:EST
DTSTART:20251102T060000
END:STANDARD
BEGIN:DAYLIGHT
TZOFFSETFROM:-0500
TZOFFSETTO:-0400
TZNAME:EDT
DTSTART:20260308T070000
END:DAYLIGHT
BEGIN:STANDARD
TZOFFSETFROM:-0400
TZOFFSETTO:-0500
TZNAME:EST
DTSTART:20261101T060000
END:STANDARD
BEGIN:DAYLIGHT
TZOFFSETFROM:-0500
TZOFFSETTO:-0400
TZNAME:EDT
DTSTART:20270314T070000
END:DAYLIGHT
BEGIN:STANDARD
TZOFFSETFROM:-0400
TZOFFSETTO:-0500
TZNAME:EST
DTSTART:20271107T060000
END:STANDARD
END:VTIMEZONE
BEGIN:VEVENT
DTSTART;TZID=America/New_York:20260429T170000
DTEND;TZID=America/New_York:20260429T190000
DTSTAMP:20260424T085441
CREATED:20260330T153513Z
LAST-MODIFIED:20260330T153513Z
UID:8523-1777482000-1777489200@comradespartenariat.com
SUMMARY:Lancement de livre : Le droit à la santé au Québec
DESCRIPTION:Lancement de livre : Le droit à la santé au Québec\nLa Communauté de recherche-action sur les droits économiques et sociaux (COMRADES)\, l’Institut Santé et société (ISS) et les Presses de l’Université Laval (PUL) vous invitent au lancement du livre Le droit à la santé au Québec : Justiciabilité par la méthode de la vérification démocratique de la professeure Marie Carpentier du département des sciences juridiques de l’UQÀM. \nPréfacé par Lucie Lamarche\, ce livre recourt à la constitution du panier de biens et de services de santé pour illustrer la difficulté de revendiquer le droit à la santé devant les tribunaux québécois et propose une stratégie pour y parvenir dans le respect du principe démocratique de la séparation des pouvoirs. \nÉvénement ouvert à toutes et à tous\nBouchées et consommation offertes \nInscription obligatoire et gratuite : cliquez ici
URL:https://comradespartenariat.com/en/evenement/lancement-livre-droit-sante-quebec/
LOCATION:À l’Amère à boire\, 2049 rue Saint-Denis à Montréal
ATTACH;FMTTYPE=image/jpeg:https://comradespartenariat.com/wp-content/uploads/2026/03/visuel-sans-texte-2.jpg
END:VEVENT
BEGIN:VEVENT
DTSTART;TZID=America/New_York:20260508T090000
DTEND;TZID=America/New_York:20260508T170000
DTSTAMP:20260424T085441
CREATED:20260422T150731Z
LAST-MODIFIED:20260422T150731Z
UID:8568-1778230800-1778259600@comradespartenariat.com
SUMMARY:La Charte québécoise en péril(s) ? Journée en droit social et du travail
DESCRIPTION:C’est maintenant l’heure de vous inscrire pour la XXIIe édition de la Journée en droit social et du travail qui aura lieu le vendredi 8 mai prochain. Elle porte sur le thème : La Charte québécoise en péril(s) ?  \nCette journée sera l’occasion pour les universitaires\, les praticiens du droit et les acteurs communautaires de réfléchir aux défis auxquels est aujourd’hui confrontée la pièce majeure de l’État de droit qu’est la Charte des droits et libertés de la personne. \nInscrivez-vous sur le site : https://sites.grenadine.uqam.ca/sites/dsj/fr/xxiie-jdst/home \nFaites vite! Les places sont limitées! La programmation détaillée est disponible sur le site.   \nNotez que 5 heures sont admissibles aux fins des obligations de formation continue obligatoire prescrites par le Barreau du Québec \nL’événement se tiendra en présentiel uniquement. Info : colloque.jdst@gmail.com  Facebook : https://www.facebook.com/jdstuqam/  \n  \n2026 marque les 50 ans de l’entrée en vigueur de la Charte des droits et libertés de la personne du Québec. Dès l’origine\, la Charte a été considérée comme l’incarnation juridique des valeurs de la société québécoise. Plusieurs éléments distinctifs en font un document unique dans l’histoire législative du Québec. D’abord\, l’ampleur des droits et libertés garantis : en effet\, ceux-ci\, inspirés des textes internationaux\, embrassent aussi bien les droits économiques\, sociaux et culturels que les droits civils et politiques\, faisant de la Charte un texte mobilisateur et surtout\, porteur d’une promesse de justice sociale. Unique\, la Charte l’est aussi par le fait qu’elle régit\, certes les relations entre les citoyens et l’État\, mais aussi les rapports des personnes entre elles\, entre autres sous l’angle de la discrimination. Pour cette raison\, la Charte a eu – et continue d’avoir – un impact majeur dans les milieux de travail. Pour autant\, cela n’enlève rien à la nature constitutionnelle de la Charte\, qui\, en principe\, jouit\, à ce jour\, d’une préséance de principe sur toutes les autres lois québécoises\, se situant à cet égard au sommet de notre édifice juridique.       \nAu fil du temps\, plusieurs interventions législatives\, très largement consensuelles\, ont considérablement enrichi la Charte. Pensons à l’interdiction de nouveaux motifs de discrimination reflétant l’évolution des mentalités\, comme l’orientation sexuelle ou l’identité de genre; à la mise en place des programmes d’accès à l’égalité; à la reconnaissance de droits nouveaux\, comme le droit à un environnement sain; à la création du Tribunal des droits de la personne; etc. Toutefois\, ces dernières années\, la Charte est assaillie par le législateur lui-même. Entre les recours immodérés à la clause nonobstant\, l’élargissement de la possibilité de justifier des atteintes aux droits\, voire la remise en question de la prééminence même de la Charte\, la Charte québécoise et sa promesse de justice sociale sont-elles en péril(s)? Cette journée sera l’occasion pour les universitaires\, les praticiens du droit et les acteurs communautaires de réfléchir aux défis auxquels est aujourd’hui confrontée la pièce majeure de l’État de droit qu’est la Charte des droits et libertés de la personne.
URL:https://comradespartenariat.com/en/evenement/la-charte-quebecoise-en-perils-journee-en-droit-social-et-du-travail/
LOCATION:Centre des mémoires montréalaises (MEM)\, 1210 Boulevard Saint-Laurent\, Montréal
ATTACH;FMTTYPE=image/png:https://comradespartenariat.com/wp-content/uploads/2026/04/charte-quebecoise-en-peril-JDST.png
END:VEVENT
END:VCALENDAR